Package: SPIAT Version: 1.11.0 Command: /home/biocbuild/bbs-3.22-bioc/R/bin/R CMD INSTALL SPIAT StartedAt: 2025-10-03 15:22:54 -0400 (Fri, 03 Oct 2025) EndedAt: 2025-10-03 15:23:24 -0400 (Fri, 03 Oct 2025) EllapsedTime: 29.8 seconds RetCode: 0 Status: OK