Package: SIMLR Version: 1.37.0 Command: /Library/Frameworks/R.framework/Resources/bin/R CMD INSTALL SIMLR StartedAt: 2025-11-23 15:17:30 -0500 (Sun, 23 Nov 2025) EndedAt: 2025-11-23 15:17:53 -0500 (Sun, 23 Nov 2025) EllapsedTime: 23.4 seconds RetCode: 0 Status: OK