Package: SIMLR Version: 1.37.0 Command: /Library/Frameworks/R.framework/Resources/bin/R CMD build --keep-empty-dirs --no-resave-data SIMLR StartedAt: 2025-11-24 18:43:44 -0500 (Mon, 24 Nov 2025) EndedAt: 2025-11-24 18:45:48 -0500 (Mon, 24 Nov 2025) EllapsedTime: 124.5 seconds RetCode: 0 Status: OK PackageFile: SIMLR_1.37.0.tar.gz PackageFileSize: 4.119 MiB