Package: SIMLR Version: 1.37.0 Command: /Library/Frameworks/R.framework/Resources/bin/R CMD build --keep-empty-dirs --no-resave-data SIMLR StartedAt: 2025-11-13 17:43:42 -0500 (Thu, 13 Nov 2025) EndedAt: 2025-11-13 17:44:08 -0500 (Thu, 13 Nov 2025) EllapsedTime: 26.3 seconds RetCode: 0 Status: OK PackageFile: SIMLR_1.37.0.tar.gz PackageFileSize: 4.126 MiB