Package: SIMLR Version: 1.37.0 Command: rm -rf SIMLR.buildbin-libdir && mkdir SIMLR.buildbin-libdir && /Users/biocbuild/BBS/utils/build-universal.sh SIMLR_1.37.0.tar.gz /Library/Frameworks/R.framework/Resources/bin/R SIMLR.buildbin-libdir StartedAt: 2025-11-14 23:52:18 -0500 (Fri, 14 Nov 2025) EndedAt: 2025-11-14 23:52:29 -0500 (Fri, 14 Nov 2025) EllapsedTime: 10.2 seconds RetCode: 0 Status: OK PackageFile: SIMLR_1.37.0.tgz PackageFileSize: 4.251 MiB