Package: SIMD Version: 1.27.0 Command: /home/biocbuild/bbs-3.22-bioc/R/bin/R CMD INSTALL SIMD StartedAt: 2025-10-21 15:06:26 -0400 (Tue, 21 Oct 2025) EndedAt: 2025-10-21 15:06:39 -0400 (Tue, 21 Oct 2025) EllapsedTime: 13.2 seconds RetCode: 0 Status: OK