Package: SDAMS Version: 1.29.0 Command: /home/biocbuild/bbs-3.22-bioc/R/bin/R CMD INSTALL SDAMS StartedAt: 2025-09-29 15:36:09 -0400 (Mon, 29 Sep 2025) EndedAt: 2025-09-29 15:36:51 -0400 (Mon, 29 Sep 2025) EllapsedTime: 42.4 seconds RetCode: 0 Status: OK