Package: SDAMS Version: 1.29.0 Command: /home/biocbuild/bbs-3.22-bioc/R/bin/R CMD build --keep-empty-dirs --no-resave-data --md5 SDAMS StartedAt: 2025-09-29 20:16:36 -0400 (Mon, 29 Sep 2025) EndedAt: 2025-09-29 20:17:27 -0400 (Mon, 29 Sep 2025) EllapsedTime: 51.1 seconds RetCode: 0 Status: OK PackageFile: SDAMS_1.29.0.tar.gz PackageFileSize: 1.283 MiB