Package: SCOPE Version: 1.21.0 Command: /home/biocbuild/bbs-3.22-bioc/R/bin/R CMD INSTALL SCOPE StartedAt: 2025-10-03 15:33:17 -0400 (Fri, 03 Oct 2025) EndedAt: 2025-10-03 15:33:54 -0400 (Fri, 03 Oct 2025) EllapsedTime: 36.2 seconds RetCode: 0 Status: OK