Package: SCOPE Version: 1.21.0 Command: /home/biocbuild/bbs-3.22-bioc/R/bin/R CMD build --keep-empty-dirs --no-resave-data --md5 SCOPE StartedAt: 2025-10-03 19:53:05 -0400 (Fri, 03 Oct 2025) EndedAt: 2025-10-03 20:02:15 -0400 (Fri, 03 Oct 2025) EllapsedTime: 549.4 seconds RetCode: 0 Status: OK PackageFile: SCOPE_1.21.0.tar.gz PackageFileSize: 394.5 KiB