Package: SCArray Version: 1.19.0 Command: /home/biocbuild/bbs-3.23-bioc/R/bin/R CMD INSTALL SCArray StartedAt: 2025-11-07 15:52:34 -0500 (Fri, 07 Nov 2025) EndedAt: 2025-11-07 15:53:13 -0500 (Fri, 07 Nov 2025) EllapsedTime: 38.8 seconds RetCode: 0 Status: OK