Package: SCArray Version: 1.19.0 Command: /home/biocbuild/bbs-3.23-bioc/R/bin/R CMD build --keep-empty-dirs --no-resave-data SCArray StartedAt: 2025-11-07 19:44:58 -0500 (Fri, 07 Nov 2025) EndedAt: 2025-11-07 19:46:19 -0500 (Fri, 07 Nov 2025) EllapsedTime: 81.1 seconds RetCode: 0 Status: OK PackageFile: SCArray_1.19.0.tar.gz PackageFileSize: 1.337 MiB