Package: SCArray.sat Version: 1.11.0 Command: /home/biocbuild/bbs-3.23-bioc/R/bin/R CMD INSTALL SCArray.sat StartedAt: 2025-11-07 15:53:41 -0500 (Fri, 07 Nov 2025) EndedAt: 2025-11-07 15:54:22 -0500 (Fri, 07 Nov 2025) EllapsedTime: 40.7 seconds RetCode: 0 Status: OK