Package: SCArray.sat Version: 1.11.0 Command: /home/biocbuild/bbs-3.23-bioc/R/bin/R CMD build --keep-empty-dirs --no-resave-data SCArray.sat StartedAt: 2025-11-07 19:45:14 -0500 (Fri, 07 Nov 2025) EndedAt: 2025-11-07 19:46:25 -0500 (Fri, 07 Nov 2025) EllapsedTime: 71.1 seconds RetCode: 1 Status: ERROR PackageFile: None PackageFileSize: NA