Package: SCAN.UPC Version: 2.51.0 Command: /home/biocbuild/bbs-3.22-bioc/R/bin/R CMD INSTALL SCAN.UPC StartedAt: 2025-10-05 15:32:48 -0400 (Sun, 05 Oct 2025) EndedAt: 2025-10-05 15:33:20 -0400 (Sun, 05 Oct 2025) EllapsedTime: 32.0 seconds RetCode: 0 Status: OK