Package: SCAN.UPC Version: 2.51.0 Command: /home/biocbuild/bbs-3.22-bioc/R/bin/R CMD build --keep-empty-dirs --no-resave-data --md5 SCAN.UPC StartedAt: 2025-10-03 19:46:37 -0400 (Fri, 03 Oct 2025) EndedAt: 2025-10-03 19:47:13 -0400 (Fri, 03 Oct 2025) EllapsedTime: 36.0 seconds RetCode: 0 Status: OK PackageFile: SCAN.UPC_2.51.0.tar.gz PackageFileSize: 690.2 KiB