Package: Rvisdiff Version: 1.9.0 Command: /home/biocbuild/bbs-3.23-bioc/R/bin/R CMD INSTALL Rvisdiff StartedAt: 2025-11-05 15:10:11 -0500 (Wed, 05 Nov 2025) EndedAt: 2025-11-05 15:10:30 -0500 (Wed, 05 Nov 2025) EllapsedTime: 19.1 seconds RetCode: 0 Status: OK