Package: Rvisdiff Version: 1.9.0 Command: /home/biocbuild/bbs-3.23-bioc/R/bin/R CMD build --keep-empty-dirs --no-resave-data Rvisdiff StartedAt: 2025-11-05 19:46:53 -0500 (Wed, 05 Nov 2025) EndedAt: 2025-11-05 19:47:55 -0500 (Wed, 05 Nov 2025) EllapsedTime: 62.2 seconds RetCode: 0 Status: OK PackageFile: Rvisdiff_1.9.0.tar.gz PackageFileSize: 1.315 MiB