Package: Rvisdiff Version: 1.9.0 Command: /Library/Frameworks/R.framework/Resources/bin/R CMD check --install=check:Rvisdiff.install-out.txt --library=/Library/Frameworks/R.framework/Resources/library --no-vignettes --timings Rvisdiff_1.9.0.tar.gz StartedAt: 2025-11-25 22:13:04 -0500 (Tue, 25 Nov 2025) EndedAt: 2025-11-25 22:14:22 -0500 (Tue, 25 Nov 2025) EllapsedTime: 78.0 seconds RetCode: 0 Status: OK CheckDir: Rvisdiff.Rcheck Warnings: 0