Package: Rigraphlib Version: 1.3.1 Command: /home/biocbuild/bbs-3.23-bioc/R/bin/R CMD INSTALL Rigraphlib StartedAt: 2025-11-13 15:05:11 -0500 (Thu, 13 Nov 2025) EndedAt: 2025-11-13 15:09:18 -0500 (Thu, 13 Nov 2025) EllapsedTime: 246.6 seconds RetCode: 0 Status: OK