Package: Rigraphlib Version: 1.1.2 Command: /Library/Frameworks/R.framework/Resources/bin/R CMD INSTALL Rigraphlib StartedAt: 2025-10-01 15:04:01 -0400 (Wed, 01 Oct 2025) EndedAt: 2025-10-01 15:05:06 -0400 (Wed, 01 Oct 2025) EllapsedTime: 65.1 seconds RetCode: 0 Status: OK