Package: Rhtslib Version: 3.7.0 Command: /Library/Frameworks/R.framework/Resources/bin/R CMD INSTALL Rhtslib StartedAt: 2025-11-16 20:05:09 -0500 (Sun, 16 Nov 2025) EndedAt: 2025-11-16 20:06:00 -0500 (Sun, 16 Nov 2025) EllapsedTime: 51.4 seconds RetCode: 0 Status: OK