Package: Rhtslib Version: 3.7.0 Command: /Library/Frameworks/R.framework/Resources/bin/R CMD build --keep-empty-dirs --no-resave-data Rhtslib StartedAt: 2025-11-16 23:21:38 -0500 (Sun, 16 Nov 2025) EndedAt: 2025-11-16 23:22:30 -0500 (Sun, 16 Nov 2025) EllapsedTime: 52.3 seconds RetCode: 0 Status: OK PackageFile: Rhtslib_3.7.0.tar.gz PackageFileSize: 4.91 MiB