Package: Rhtslib Version: 3.7.0 Command: rm -rf Rhtslib.buildbin-libdir && mkdir Rhtslib.buildbin-libdir && /Users/biocbuild/BBS/utils/build-universal.sh Rhtslib_3.7.0.tar.gz /Library/Frameworks/R.framework/Resources/bin/R Rhtslib.buildbin-libdir StartedAt: 2025-11-13 23:53:04 -0500 (Thu, 13 Nov 2025) EndedAt: 2025-11-13 23:53:22 -0500 (Thu, 13 Nov 2025) EllapsedTime: 18.3 seconds RetCode: 0 Status: OK PackageFile: Rhtslib_3.7.0.tgz PackageFileSize: 3.214 MiB