Package: Rhdf5lib Version: 1.31.1 Command: /Library/Frameworks/R.framework/Resources/bin/R CMD INSTALL Rhdf5lib StartedAt: 2025-10-27 15:02:25 -0400 (Mon, 27 Oct 2025) EndedAt: 2025-10-27 15:08:23 -0400 (Mon, 27 Oct 2025) EllapsedTime: 358.3 seconds RetCode: 0 Status: OK