Package: Rhdf5lib Version: 1.31.1 Command: /Library/Frameworks/R.framework/Resources/bin/R CMD INSTALL Rhdf5lib StartedAt: 2025-10-20 15:01:09 -0400 (Mon, 20 Oct 2025) EndedAt: 2025-10-20 15:02:54 -0400 (Mon, 20 Oct 2025) EllapsedTime: 105.0 seconds RetCode: 0 Status: OK