Package: Rhdf5lib Version: 1.31.1 Command: /Library/Frameworks/R.framework/Resources/bin/R CMD build --keep-empty-dirs --no-resave-data Rhdf5lib StartedAt: 2025-10-20 17:28:55 -0400 (Mon, 20 Oct 2025) EndedAt: 2025-10-20 17:30:50 -0400 (Mon, 20 Oct 2025) EllapsedTime: 115.3 seconds RetCode: 0 Status: OK PackageFile: Rhdf5lib_1.31.1.tar.gz PackageFileSize: 11.5 MiB