Package: Rfastp Version: 1.19.1 Command: /home/biocbuild/bbs-3.22-bioc/R/bin/R CMD INSTALL Rfastp StartedAt: 2025-10-27 16:09:51 -0400 (Mon, 27 Oct 2025) EndedAt: 2025-10-27 16:09:51 -0400 (Mon, 27 Oct 2025) EllapsedTime: 0.2 seconds RetCode: 1 Status: ERROR