Package: Rfastp Version: 1.19.1 Command: /home/biocbuild/bbs-3.22-bioc/R/bin/R CMD build --keep-empty-dirs --no-resave-data --md5 Rfastp StartedAt: 2025-10-28 19:35:20 -0400 (Tue, 28 Oct 2025) EndedAt: 2025-10-28 19:35:21 -0400 (Tue, 28 Oct 2025) EllapsedTime: 1.0 seconds RetCode: 1 Status: ERROR PackageFile: None PackageFileSize: NA