Package: ResidualMatrix Version: 1.19.0 Command: /home/biocbuild/bbs-3.22-bioc/R/bin/R CMD build --keep-empty-dirs --no-resave-data --md5 ResidualMatrix StartedAt: 2025-09-29 19:52:59 -0400 (Mon, 29 Sep 2025) EndedAt: 2025-09-29 19:53:42 -0400 (Mon, 29 Sep 2025) EllapsedTime: 43.0 seconds RetCode: 0 Status: OK PackageFile: ResidualMatrix_1.19.0.tar.gz PackageFileSize: 379.9 KiB