Package: RedisParam Version: 1.13.0 Command: /Library/Frameworks/R.framework/Resources/bin/R CMD build --keep-empty-dirs --no-resave-data RedisParam StartedAt: 2025-11-23 18:27:05 -0500 (Sun, 23 Nov 2025) EndedAt: 2025-11-23 18:27:17 -0500 (Sun, 23 Nov 2025) EllapsedTime: 11.5 seconds RetCode: 0 Status: OK PackageFile: RedisParam_1.13.0.tar.gz PackageFileSize: 950.4 KiB