Package: RedisParam Version: 1.13.0 Command: /Library/Frameworks/R.framework/Resources/bin/R CMD INSTALL RedisParam StartedAt: 2025-11-16 15:06:42 -0500 (Sun, 16 Nov 2025) EndedAt: 2025-11-16 15:06:51 -0500 (Sun, 16 Nov 2025) EllapsedTime: 8.8 seconds RetCode: 0 Status: OK