Package: RedisParam Version: 1.13.0 Command: /Library/Frameworks/R.framework/Resources/bin/R CMD build --keep-empty-dirs --no-resave-data RedisParam StartedAt: 2025-11-16 17:25:42 -0500 (Sun, 16 Nov 2025) EndedAt: 2025-11-16 17:25:46 -0500 (Sun, 16 Nov 2025) EllapsedTime: 4.0 seconds RetCode: 0 Status: OK PackageFile: RedisParam_1.13.0.tar.gz PackageFileSize: 950.5 KiB