Package: RedisParam Version: 1.13.0 Command: rm -rf RedisParam.buildbin-libdir && mkdir RedisParam.buildbin-libdir && /Users/biocbuild/BBS/utils/build-universal.sh RedisParam_1.13.0.tar.gz /Library/Frameworks/R.framework/Resources/bin/R RedisParam.buildbin-libdir StartedAt: 2025-11-16 23:48:42 -0500 (Sun, 16 Nov 2025) EndedAt: 2025-11-16 23:48:45 -0500 (Sun, 16 Nov 2025) EllapsedTime: 3.1 seconds RetCode: 0 Status: OK PackageFile: RedisParam_1.13.0.tgz PackageFileSize: 1.002 MiB