Package: ReactomePA Version: 1.55.0 Command: /home/biocbuild/bbs-3.23-bioc/R/bin/R CMD INSTALL ReactomePA StartedAt: 2025-11-20 15:46:34 -0500 (Thu, 20 Nov 2025) EndedAt: 2025-11-20 15:46:57 -0500 (Thu, 20 Nov 2025) EllapsedTime: 22.8 seconds RetCode: 0 Status: OK