Package: ReactomePA Version: 1.55.0 Command: /home/biocbuild/bbs-3.23-bioc/R/bin/R CMD build --keep-empty-dirs --no-resave-data ReactomePA StartedAt: 2025-11-20 19:32:38 -0500 (Thu, 20 Nov 2025) EndedAt: 2025-11-20 19:33:09 -0500 (Thu, 20 Nov 2025) EllapsedTime: 31.1 seconds RetCode: 0 Status: OK PackageFile: ReactomePA_1.55.0.tar.gz PackageFileSize: 57.19 KiB