Package: ReactomePA Version: 1.55.0 Command: /Library/Frameworks/R.framework/Resources/bin/R CMD INSTALL ReactomePA StartedAt: 2025-11-17 15:40:04 -0500 (Mon, 17 Nov 2025) EndedAt: 2025-11-17 15:40:34 -0500 (Mon, 17 Nov 2025) EllapsedTime: 30.6 seconds RetCode: 0 Status: OK