Package: ReactomePA Version: 1.55.0 Command: /Library/Frameworks/R.framework/Resources/bin/R CMD build --keep-empty-dirs --no-resave-data ReactomePA StartedAt: 2025-11-17 18:35:08 -0500 (Mon, 17 Nov 2025) EndedAt: 2025-11-17 18:35:46 -0500 (Mon, 17 Nov 2025) EllapsedTime: 37.7 seconds RetCode: 0 Status: OK PackageFile: ReactomePA_1.55.0.tar.gz PackageFileSize: 57.2 KiB