Package: ReactomeGSA Version: 1.25.0 Command: /home/biocbuild/bbs-3.23-bioc/R/bin/R CMD build --keep-empty-dirs --no-resave-data ReactomeGSA StartedAt: 2025-11-07 19:28:58 -0500 (Fri, 07 Nov 2025) EndedAt: 2025-11-07 19:35:49 -0500 (Fri, 07 Nov 2025) EllapsedTime: 411.4 seconds RetCode: 0 Status: OK PackageFile: ReactomeGSA_1.25.0.tar.gz PackageFileSize: 375.3 KiB