Package: RcwlPipelines Version: 1.25.0 Command: /home/biocbuild/bbs-3.22-bioc/R/bin/R CMD build --keep-empty-dirs --no-resave-data --md5 RcwlPipelines StartedAt: 2025-10-08 19:56:47 -0400 (Wed, 08 Oct 2025) EndedAt: 2025-10-08 19:57:22 -0400 (Wed, 08 Oct 2025) EllapsedTime: 34.1 seconds RetCode: 0 Status: OK PackageFile: RcwlPipelines_1.25.0.tar.gz PackageFileSize: 877.9 KiB