Package: Rcwl Version: 1.25.0 Command: /home/biocbuild/bbs-3.22-bioc/R/bin/R CMD build --keep-empty-dirs --no-resave-data --md5 Rcwl StartedAt: 2025-10-05 19:37:08 -0400 (Sun, 05 Oct 2025) EndedAt: 2025-10-05 19:37:40 -0400 (Sun, 05 Oct 2025) EllapsedTime: 32.1 seconds RetCode: 0 Status: OK PackageFile: Rcwl_1.25.0.tar.gz PackageFileSize: 1.027 MiB