Package: RareVariantVis Version: 2.37.0 Command: /home/biocbuild/bbs-3.22-bioc/R/bin/R CMD INSTALL RareVariantVis StartedAt: 2025-10-08 16:18:58 -0400 (Wed, 08 Oct 2025) EndedAt: 2025-10-08 16:20:00 -0400 (Wed, 08 Oct 2025) EllapsedTime: 62.6 seconds RetCode: 0 Status: OK