Package: RankProd Version: 3.35.0 Command: /home/biocbuild/bbs-3.22-bioc/R/bin/R CMD INSTALL RankProd StartedAt: 2025-10-03 15:03:21 -0400 (Fri, 03 Oct 2025) EndedAt: 2025-10-03 15:03:41 -0400 (Fri, 03 Oct 2025) EllapsedTime: 19.7 seconds RetCode: 0 Status: OK