Package: RankProd Version: 3.35.0 Command: /home/biocbuild/bbs-3.22-bioc/R/bin/R CMD build --keep-empty-dirs --no-resave-data --md5 RankProd StartedAt: 2025-10-03 19:28:16 -0400 (Fri, 03 Oct 2025) EndedAt: 2025-10-03 19:28:29 -0400 (Fri, 03 Oct 2025) EllapsedTime: 13.0 seconds RetCode: 0 Status: OK PackageFile: RankProd_3.35.0.tar.gz PackageFileSize: 778 KiB