Package: RTCGAToolbox Version: 2.39.1 Command: /Library/Frameworks/R.framework/Resources/bin/R CMD INSTALL RTCGAToolbox StartedAt: 2025-10-14 15:23:04 -0400 (Tue, 14 Oct 2025) EndedAt: 2025-10-14 15:23:14 -0400 (Tue, 14 Oct 2025) EllapsedTime: 9.9 seconds RetCode: 0 Status: OK