Package: RTCGAToolbox Version: 2.39.1 Command: /Library/Frameworks/R.framework/Resources/bin/R CMD build --keep-empty-dirs --no-resave-data RTCGAToolbox StartedAt: 2025-10-15 17:38:29 -0400 (Wed, 15 Oct 2025) EndedAt: 2025-10-15 17:38:51 -0400 (Wed, 15 Oct 2025) EllapsedTime: 21.2 seconds RetCode: 0 Status: OK PackageFile: RTCGAToolbox_2.39.1.tar.gz PackageFileSize: 2.33 MiB