Package: RTCGAToolbox Version: 2.39.1 Command: rm -rf RTCGAToolbox.buildbin-libdir && mkdir RTCGAToolbox.buildbin-libdir && /Users/biocbuild/BBS/utils/build-universal.sh RTCGAToolbox_2.39.1.tar.gz /Library/Frameworks/R.framework/Resources/bin/R RTCGAToolbox.buildbin-libdir StartedAt: 2025-10-15 23:00:29 -0400 (Wed, 15 Oct 2025) EndedAt: 2025-10-15 23:00:40 -0400 (Wed, 15 Oct 2025) EllapsedTime: 11.2 seconds RetCode: 0 Status: OK PackageFile: RTCGAToolbox_2.39.1.tgz PackageFileSize: 631 KiB