Package: RProtoBufLib Version: 2.21.0 Command: /home/biocbuild/bbs-3.22-bioc/R/bin/R CMD INSTALL RProtoBufLib StartedAt: 2025-10-03 15:01:58 -0400 (Fri, 03 Oct 2025) EndedAt: 2025-10-03 15:06:31 -0400 (Fri, 03 Oct 2025) EllapsedTime: 272.3 seconds RetCode: 0 Status: OK