Package: RNAmodR.RiboMethSeq Version: 1.25.0 Command: /home/biocbuild/bbs-3.23-bioc/R/bin/R CMD INSTALL RNAmodR.RiboMethSeq StartedAt: 2025-11-07 15:48:00 -0500 (Fri, 07 Nov 2025) EndedAt: 2025-11-07 15:48:58 -0500 (Fri, 07 Nov 2025) EllapsedTime: 57.6 seconds RetCode: 0 Status: OK