Package: RNAmodR.RiboMethSeq Version: 1.23.1 Command: /Library/Frameworks/R.framework/Resources/bin/R CMD INSTALL RNAmodR.RiboMethSeq StartedAt: 2025-09-30 15:44:00 -0400 (Tue, 30 Sep 2025) EndedAt: 2025-09-30 15:45:21 -0400 (Tue, 30 Sep 2025) EllapsedTime: 80.9 seconds RetCode: 0 Status: OK